View In:
ArcGIS JavaScript
ArcGIS Online Map Viewer
ArcGIS Earth
Service Description: March_2021_Imagery
Name: March_2021_Imagery
Description:
Single Fused Map Cache: false
Extent:
XMin: 1.1373668306568425E7
YMin: 6835410.964489584
XMax: 1.1381784922634872E7
YMax: 6847065.614243133
Spatial Reference: 102746
(2283)
LatestVCSWkid(0)
Initial Extent:
XMin: 1.1373668306568425E7
YMin: 6835410.964489584
XMax: 1.1381784922634872E7
YMax: 6847065.614243133
Spatial Reference: 102746
(2283)
LatestVCSWkid(0)
Full Extent:
XMin: 1.1373668306568425E7
YMin: 6835410.964489584
XMax: 1.1381784922634872E7
YMax: 6847065.614243133
Spatial Reference: 102746
(2283)
LatestVCSWkid(0)
Pixel Size X: 0.12894160364819418
Pixel Size Y: 0.12908018333756935
Band Count: 4
Pixel Type: U8
RasterFunction Infos: {"rasterFunctionInfos": [{
"name": "None",
"description": "",
"help": ""
}]}
Mensuration Capabilities: Basic
Inspection Capabilities:
Has Histograms: true
Has Colormap: false
Has Multi Dimensions : false
Rendering Rule:
Min Scale: 0
Max Scale: 0
Copyright Text:
Service Data Type: esriImageServiceDataTypeGeneric
Min Values: 1, 1, 1, 4
Max Values: 255, 255, 255, 255
Mean Values: 144.51750634849276, 142.10580239960152, 131.87350145468585, 254.99251476730134
Standard Deviation Values: 56.247554421201066, 53.58250115775475, 53.46320621044266, 1.1252912848531518
Object ID Field:
Fields:
None
Default Mosaic Method: Center
Allowed Mosaic Methods:
SortField:
SortValue: null
Mosaic Operator: First
Default Compression Quality: 75
Default Resampling Method: Bilinear
Max Record Count: null
Max Image Height: 4100
Max Image Width: 15000
Max Download Image Count: null
Max Mosaic Image Count: null
Allow Raster Function: true
Allow Copy: true
Allow Analysis: true
Allow Compute TiePoints: false
Supports Statistics: false
Supports Advanced Queries: false
Use StandardizedQueries: true
Raster Type Infos:
Name: Raster Dataset
Description: Supports all ArcGIS Raster Datasets
Help:
Has Raster Attribute Table: false
Edit Fields Info: null
Ownership Based AccessControl For Rasters: null
Child Resources:
Info
Histograms
Statistics
Key Properties
Legend
Raster Function Infos
Supported Operations:
Export Image
Identify
Measure
Compute Histograms
Compute Statistics Histograms
Get Samples
Compute Class Statistics
Query Boundary
Compute Pixel Location
Compute Angles
Validate
Project